BEGIN:VCALENDAR
VERSION:2.0
PRODID:icalendar-ruby
CALSCALE:GREGORIAN
METHOD:PUBLISH
BEGIN:VEVENT
DTSTAMP:20260423T182408Z
UID:14-358212@stpetersanglican.ca
DTSTART:20260609T153000Z
DTEND:20260609T163000Z
CLASS:PUBLIC
CREATED:20260423T124455
DESCRIPTION:
LAST-MODIFIED:20260423T124455
LOCATION:Online via Zoom until April 28th 
SUMMARY:Meditation Group - in person beginning May 5th
URL;VALUE=URI:https://stpetersanglican.ca/events/meditation-group-in-person
 -beginning-may-5th/2026-06-09
ATTACH;FILENAME=close-up-kid-meditating-mat.jpg;FMTTYPE=image/jpeg:https://
 dq5pwpg1q8ru0.cloudfront.net/2025/03/06/00/58/30/21ac274f-bc20-4137-9f5f-3
 709a073f6c7/close-up-kid-meditating-mat.jpg
END:VEVENT
END:VCALENDAR
